BEGIN:VCALENDAR
VERSION:2.0
PRODID:-//Jaime Townzen - ECPv6.15.20//NONSGML v1.0//EN
CALSCALE:GREGORIAN
METHOD:PUBLISH
X-WR-CALNAME:Jaime Townzen
X-ORIGINAL-URL:https://jaimetownzen.com
X-WR-CALDESC:Events for Jaime Townzen
REFRESH-INTERVAL;VALUE=DURATION:PT1H
X-Robots-Tag:noindex
X-PUBLISHED-TTL:PT1H
BEGIN:VTIMEZONE
TZID:America/Los_Angeles
BEGIN:DAYLIGHT
TZOFFSETFROM:-0800
TZOFFSETTO:-0700
TZNAME:PDT
DTSTART:20240310T100000
END:DAYLIGHT
BEGIN:STANDARD
TZOFFSETFROM:-0700
TZOFFSETTO:-0800
TZNAME:PST
DTSTART:20241103T090000
END:STANDARD
BEGIN:DAYLIGHT
TZOFFSETFROM:-0800
TZOFFSETTO:-0700
TZNAME:PDT
DTSTART:20250309T100000
END:DAYLIGHT
BEGIN:STANDARD
TZOFFSETFROM:-0700
TZOFFSETTO:-0800
TZNAME:PST
DTSTART:20251102T090000
END:STANDARD
BEGIN:DAYLIGHT
TZOFFSETFROM:-0800
TZOFFSETTO:-0700
TZNAME:PDT
DTSTART:20260308T100000
END:DAYLIGHT
BEGIN:STANDARD
TZOFFSETFROM:-0700
TZOFFSETTO:-0800
TZNAME:PST
DTSTART:20261101T090000
END:STANDARD
END:VTIMEZONE
BEGIN:VEVENT
DTSTART;TZID=America/Los_Angeles:20250430T153000
DTEND;TZID=America/Los_Angeles:20250430T170000
DTSTAMP:20260425T094120
CREATED:20250403T210945Z
LAST-MODIFIED:20250408T231214Z
UID:2048-1746027000-1746032400@jaimetownzen.com
SUMMARY:Arcadia High School Book Club
DESCRIPTION:Jaime will be joining the Arcadia High School book club for a discussion of Absorbed.
URL:https://jaimetownzen.com/event/arcadia-high-school-book-club/
LOCATION:Arcadia High School\, 180 Campus Drive\, Arcadia\, 91007\, United States
ATTACH;FMTTYPE=image/jpeg:https://jaimetownzen.com/wp-content/uploads/2025/01/3.jpg
END:VEVENT
BEGIN:VEVENT
DTSTART;TZID=America/Los_Angeles:20250414T190000
DTEND;TZID=America/Los_Angeles:20250414T210000
DTSTAMP:20260425T094120
CREATED:20250403T210418Z
LAST-MODIFIED:20250403T210418Z
UID:2044-1744657200-1744664400@jaimetownzen.com
SUMMARY:Private Book Club
DESCRIPTION:Jaime will be joining a private book club discussion of Absorbed.
URL:https://jaimetownzen.com/event/private-book-club/
LOCATION:Redlands\, CA\, Redlands\, CA\, United States
ATTACH;FMTTYPE=image/jpeg:https://jaimetownzen.com/wp-content/uploads/2025/01/2.jpg
END:VEVENT
BEGIN:VEVENT
DTSTART;TZID=America/Los_Angeles:20250330T130000
DTEND;TZID=America/Los_Angeles:20250330T160000
DTSTAMP:20260425T094120
CREATED:20250326T222249Z
LAST-MODIFIED:20250326T152933Z
UID:2032-1743339600-1743350400@jaimetownzen.com
SUMMARY:Book Signing
DESCRIPTION:
URL:https://jaimetownzen.com/event/book-signing/
LOCATION:Barnes & Noble Huntington Beach
ATTACH;FMTTYPE=image/jpeg:https://jaimetownzen.com/wp-content/uploads/2025/03/image0.jpg
END:VEVENT
END:VCALENDAR